BEGIN:VCALENDAR
VERSION:2.0
PRODID:-//Ludwig-Harig-Gesellschaft e. V. - ECPv6.15.20//NONSGML v1.0//EN
CALSCALE:GREGORIAN
METHOD:PUBLISH
X-WR-CALNAME:Ludwig-Harig-Gesellschaft e. V.
X-ORIGINAL-URL:https://ludwig-harig.de
X-WR-CALDESC:Veranstaltungen für Ludwig-Harig-Gesellschaft e. V.
REFRESH-INTERVAL;VALUE=DURATION:PT1H
X-Robots-Tag:noindex
X-PUBLISHED-TTL:PT1H
BEGIN:VTIMEZONE
TZID:UTC
BEGIN:STANDARD
TZOFFSETFROM:+0000
TZOFFSETTO:+0000
TZNAME:UTC
DTSTART:20240101T000000
END:STANDARD
END:VTIMEZONE
BEGIN:VEVENT
DTSTART;TZID=UTC:20250605T180000
DTEND;TZID=UTC:20250605T233000
DTSTAMP:20260422T155849
CREATED:20241025T075913Z
LAST-MODIFIED:20250929T104523Z
UID:198-1749146400-1749166200@ludwig-harig.de
SUMMARY:Donnerstag\, den 5. Juni. 2025 Gründungsfest
DESCRIPTION:
URL:https://ludwig-harig.de/event/4-06-2025-gruendungsfest/
LOCATION:Ludwig-Harig-Gesellschaft e. V.\, Oberdorfstrasse 36\, Sulzbach\, Saarland\, 66280\, Germany
CATEGORIES:Veranstaltungen
ATTACH;FMTTYPE=image/jpeg:https://ludwig-harig.de/wp-content/uploads/2025/08/Gruendungsfeier_2293_S-1.jpg
ORGANIZER;CN="Ludwig-Harig-Gesellschaft e. V.":MAILTO:verein@ludwig-harig.de
END:VEVENT
END:VCALENDAR